BEGIN:VCALENDAR
PRODID:-//Det Danske Spejderkorps//NONSGML Gruppeweb//EN
VERSION:2.0
CALSCALE:GREGORIAN
X-PUBLISHED-TTL:PT1H
X-WR-CALNAME:Troppen i Hammeluglerne
METHOD:PUBLISH
BEGIN:VEVENT
UID:gruppeweb.dk:7506:event:1877
DTSTAMP:20260421T080520Z
LAST-MODIFIED:20260127T160142Z
SUMMARY:Gruppetur 2026
DESCRIPTION:Glæd jer til gruppeturen i Ryekol - Tilmelding åbner til dece
 mber\, hvor der  \nogså deles invitationer ud til spejdere.\n
URL:https://www.hammeluglerne.dk/begivenhed/gruppetur-2026
DTSTART:20260130T170000Z
DTEND:20260201T100000Z
LOCATION:Ryekol\, Galgebakken 12\, 8680 Ry
END:VEVENT
BEGIN:VEVENT
UID:gruppeweb.dk:7506:event:1976
DTSTAMP:20260421T080520Z
LAST-MODIFIED:20260123T194934Z
SUMMARY:Generalforsamling/Grupperådsmøde 2026
DESCRIPTION:Hammeluglerne indkalder alle forældre og spejdere over 15 år 
 til vores  \nårlige generalforsamling (også kaldet "Grupperådsmøde" p
 å  \nspejder-sprog).\n\n\nImens forældre er til mødet\, kan spejdere og
  eventuelle søskende slå  \nkatten af tønden og bage snobrød udenfor.\
 n\nFor forældre og store spejdere vil der være kaffe og småkager indenf
 or.  \nMødet kræver ikke tilmelding.\n\n\nDen officielle dagsorden er ve
 dhæftet indbydelsen og kan ses i bunden af  \ndenne side. \n\nDerudover 
 vil der også være indslag fra årets store begivenheder\, hvor  \nnogle 
 af de ældste spejdere vil snakke om årets udlandstur til Skotland\, og  
 \nnogle tropsspejdere vil dele fortællinger fra nogle af de ture\, de har
   \nværet på i årets løb. \n\n\nDer vil som altid være mulighed for 
 at melde sig ind i bestyrelsen\, hvis man  \nønsker at bidrage til at gø
 re vores spejdergruppe endnu bedre – det  \nkræver hverken spejderfærd
 igheder eller bestyrelseserfaring\, men bare  \nlysten til at give en hån
 d med i vores fællesskab. \n\n\nHar man forslag man ønsker behandlet ti
 l generalforsamlingen\, skal de sendes  \ntil bestyrelse@hammeluglerne.dk 
 senest d. 2. februar.\n\n\nRegnskab mm. kan findes på denne side senest 1
  uge før mødet. \n\n\n*Dagsorden for generalforsamling 2026:*\n\n1.Valg
  af dirigent og referent\n\n2.Fremlæggelse af bestyrelsens beretning \n\
 n3.Fremlæggelse af gruppelederens beretning\n\n4.Fremlæggelse af årsreg
 nskabet for til vedtagelse (det foregående år)\n\n5.Behandling af indkom
 ne forslag\n\n6.Fremlæggelse af budget\, herunder kontingent for det komm
 ende år til  \nvedtagelse.\n\n7.Fastsættelse af antal pladser i bestyrel
 sen.\n\n8.Valg til bestyrelsen (gælder for en toårig periode)\n\n9.Valg 
 af revisor og evt. revisorsuppleant (gælder for en etårig periode)\n\n10
 .Valg af fem stemmeberettigede til divisionsrådet (gælder for en etårig
   \nperiode)\n\n11.Valg af to stemmeberettigede til korpsrådet (gælder f
 or en etårig  \nperiode)\n\n12.Eventuelt\n\n\n
URL:https://www.hammeluglerne.dk/begivenhed/generalforsamlinggrupperaadsmoe
 de-2026
DTSTART:20260216T160000Z
DTEND:20260216T180000Z
LOCATION:Hammeluglerne\, Møllevangen 4\, 8450 Hammel
END:VEVENT
BEGIN:VEVENT
UID:gruppeweb.dk:7506:event:1726
DTSTAMP:20260421T080520Z
LAST-MODIFIED:20260214T183909Z
SUMMARY:Skotland 2025 - 2. rate
DESCRIPTION:Vi tager på udlanstur til Skotland! \n\nDette er 2. rate af b
 etalingen.\n\n
URL:https://www.hammeluglerne.dk/begivenhed/skotland-2025-2-rate
DTSTART:20250628T080000Z
DTEND:20250706T200000Z
LOCATION:Hammeluglerne\, Møllevangen 4\, 8450 Hammel
END:VEVENT
BEGIN:VEVENT
UID:gruppeweb.dk:7506:event:1727
DTSTAMP:20260421T080520Z
LAST-MODIFIED:20260214T183912Z
SUMMARY:Skotland 2025 - 1. rate
DESCRIPTION:Vi tager på udlanstur til Skotland! \n\nDette er 1. rate af b
 etalingen\, som dækker bestilling af flybilletter. \n\n2. rate på 2000 
 kr skal betales inden 1. juni. Den samlede pris bliver på  \n4000 kr. \n
 \nVi flyver enten lørdag d. 28. juni eller søndag d. 29. juni og flyver 
 retur  \nlørdag d. 5. juli eller søndag d. 6. juli - alt efter hvad der 
 passer med  \nde bedste billetter. Vi melder ud så snart billetterne er b
 estilt\, og vi  \nkender de præcise tider. \n\n
URL:https://www.hammeluglerne.dk/begivenhed/skotland-2025-1-rate
DTSTART:20250628T080000Z
DTEND:20250706T200000Z
LOCATION:Hammeluglerne\, Møllevangen 4\, 8450 Hammel
END:VEVENT
BEGIN:VEVENT
UID:gruppeweb.dk:7506:event:1779
DTSTAMP:20260421T080520Z
LAST-MODIFIED:20250308T172256Z
SUMMARY:Trop - Forberedelse af grillbod
DESCRIPTION:Vi forbereder vores bod til grillaftenen.\n\n
URL:https://www.hammeluglerne.dk/begivenhed/trop-forberedelse-af-grillbod
DTSTART:20250603T170000Z
DTEND:20250603T190000Z
LOCATION:Hammeluglerne\, Møllevangen 4\, 8450 Hammel
END:VEVENT
BEGIN:VEVENT
UID:gruppeweb.dk:7506:event:1780
DTSTAMP:20260421T080520Z
LAST-MODIFIED:20250308T172300Z
SUMMARY:Trop - Forældermøde og bytursplanlægning
DESCRIPTION:Vi holder forældermøde om turen til Skotland. \n\nImens kigg
 er spejderne på\, hvad de gerne vil lave når vi er i Edinburgh  \nsidst 
 på vores sommerlejr. \n\n
URL:https://www.hammeluglerne.dk/begivenhed/trop-foraeldermoede-og-byturspl
 anlaegning
DTSTART:20250513T170000Z
DTEND:20250513T190000Z
LOCATION:Hammeluglerne\, Møllevangen 4\, 8450 Hammel
END:VEVENT
BEGIN:VEVENT
UID:gruppeweb.dk:7506:event:1782
DTSTAMP:20260421T080520Z
LAST-MODIFIED:20250518T154021Z
SUMMARY:Trop - Sidste madmøde
DESCRIPTION:Vi håber at vi bliver inviteret med til Pind-turnering igen i 
 år\, men  \nkender ikke datoen\, så dette er bare en placeholder.\n\n
URL:https://www.hammeluglerne.dk/begivenhed/trop-sidste-madmoede
DTSTART:20250520T170000Z
DTEND:20250520T190000Z
LOCATION:Hammeluglerne\, Møllevangen 4\, 8450 Hammel
END:VEVENT
BEGIN:VEVENT
UID:gruppeweb.dk:7506:event:1783
DTSTAMP:20260421T080520Z
LAST-MODIFIED:20250308T172303Z
SUMMARY:Trop - Forbered juniormøde
DESCRIPTION:Vi holder et møde for juniorspejderne senere i foråret\, som 
 vi skal  \nplanlægge.\n\n
URL:https://www.hammeluglerne.dk/begivenhed/trop-forbered-juniormoede
DTSTART:20250506T170000Z
DTEND:20250506T190000Z
LOCATION:Hammeluglerne\, Møllevangen 4\, 8450 Hammel
END:VEVENT
BEGIN:VEVENT
UID:gruppeweb.dk:7506:event:1784
DTSTAMP:20260421T080520Z
LAST-MODIFIED:20250518T154018Z
SUMMARY:Trop - Møde med junior + Forældremøde
DESCRIPTION:Vi holder møde med juniorspejderne. \n\n\n
URL:https://www.hammeluglerne.dk/begivenhed/trop-moede-med-junior-foraeldre
 moede
DTSTART:20250527T160000Z
DTEND:20250527T180000Z
LOCATION:Hammeluglerne\, Møllevangen 4\, 8450 Hammel
END:VEVENT
BEGIN:VEVENT
UID:gruppeweb.dk:7506:event:1785
DTSTAMP:20260421T080520Z
LAST-MODIFIED:20250308T172250Z
SUMMARY:Trop - Ruteplanlægning
DESCRIPTION:Vi kigger på sommerens rute i Skotland\, og så planlægger vi
  rute til  \nnæste weekends vandretur.\n\n
URL:https://www.hammeluglerne.dk/begivenhed/trop-ruteplanlaegning
DTSTART:20250422T170000Z
DTEND:20250422T190000Z
LOCATION:Hammeluglerne\, Møllevangen 4\, 8450 Hammel
END:VEVENT
BEGIN:VEVENT
UID:gruppeweb.dk:7506:event:1787
DTSTAMP:20260421T080520Z
LAST-MODIFIED:20250308T172252Z
SUMMARY:Trop - INTET MØDE
DESCRIPTION:Intet møde pga. tur i weekenden\n\n
URL:https://www.hammeluglerne.dk/begivenhed/trop-intet-moede-7
DTSTART:20250429T170000Z
DTEND:20250429T190000Z
LOCATION:Hammeluglerne\, Møllevangen 4\, 8450 Hammel
END:VEVENT
BEGIN:VEVENT
UID:gruppeweb.dk:7506:event:1790
DTSTAMP:20260421T080520Z
LAST-MODIFIED:20250308T172242Z
SUMMARY:Trop - Grillaften
DESCRIPTION:Ugens møde er flyttet til mandag\, hvor vi holder fælles gril
 laften med hele  \ngruppen. Vi har vores grillbod\, hvor vi sælger drikke
 varer mm.\n\n
URL:https://www.hammeluglerne.dk/begivenhed/trop-grillaften
DTSTART;VALUE=DATE:20250623
LOCATION:Hammeluglerne\, Møllevangen 4\, 8450 Hammel
END:VEVENT
BEGIN:VEVENT
UID:gruppeweb.dk:7506:event:1791
DTSTAMP:20260421T080520Z
LAST-MODIFIED:20250308T172247Z
SUMMARY:Trop - Pakning til Skotland
DESCRIPTION:Vi pakker fællesgrej til vores udlandstur til Skotland\n\n
URL:https://www.hammeluglerne.dk/begivenhed/trop-pakning-til-skotland
DTSTART:20250617T170000Z
DTEND:20250617T190000Z
LOCATION:Hammeluglerne\, Møllevangen 4\, 8450 Hammel
END:VEVENT
BEGIN:VEVENT
UID:gruppeweb.dk:7506:event:1792
DTSTAMP:20260421T080520Z
LAST-MODIFIED:20250308T172244Z
SUMMARY:Trop - INTET MØDE
DESCRIPTION:Intet møde pga. Indaba i weekenden.\n\n
URL:https://www.hammeluglerne.dk/begivenhed/trop-intet-moede-5
DTSTART:20250610T170000Z
DTEND:20250610T190000Z
LOCATION:Hammeluglerne\, Møllevangen 4\, 8450 Hammel
END:VEVENT
BEGIN:VEVENT
UID:gruppeweb.dk:7506:event:1793
DTSTAMP:20260421T080520Z
LAST-MODIFIED:20260214T183818Z
SUMMARY:Trop og senior - Weekend vandretur
DESCRIPTION:Vi tager på vandre-træningstur for at teste benene\, vores te
 lte og vores  \nvandrehumør.\n\nMere info følger om mødested\, tid osv.
  \n\n
URL:https://www.hammeluglerne.dk/begivenhed/trop-og-senior-weekend-vandretu
 r
DTSTART;VALUE=DATE:20250426
DTEND;VALUE=DATE:20250428
LOCATION:Hammeluglerne\, Møllevangen 4\, 8450 Hammel
END:VEVENT
BEGIN:VEVENT
UID:gruppeweb.dk:7506:event:1794
DTSTAMP:20260421T080520Z
LAST-MODIFIED:20250308T172258Z
SUMMARY:Trop - Indaba
DESCRIPTION:\n
URL:https://www.hammeluglerne.dk/begivenhed/trop-indaba-0
DTSTART;VALUE=DATE:20250606
DTEND;VALUE=DATE:20250610
LOCATION:Hammeluglerne\, Møllevangen 4\, 8450 Hammel
END:VEVENT
BEGIN:VEVENT
UID:gruppeweb.dk:7506:event:1872
DTSTAMP:20260421T080520Z
LAST-MODIFIED:20260214T183606Z
SUMMARY:Trop Rystesammentur 2025
DESCRIPTION:Så er det tid til årets rystesammentur for troppen.\nTuren ko
 mmer til at byde på hygge og eventyr\, og en forsmag på  \nselvstændigh
 ed i tropsgrenen. \n\nVi mødes på Skanderborg St. klokken 19:30. Der er
  fælleskørsel fra  \nspejderhytten kl. 19:00. Spejderne skal have spist 
 hjemmefra.\n\nVi er færdige igen på Skanderborg St. klokken 15:00\, og d
 er er  \nfælleskørsel tilbage til spejderhytten\, hvor vi ankommer ca. 1
 5:45.\n\nPakkeliste:\nVi skal overnatte i Shelter\, så pak efter pakkelis
 ten "Pakkeliste til  \nweekendtur i telt" fra Pakkeliste [1].\nGrejet ska
 l være pakket i én taske\, derudover skal de pakke en mindre  \nturtaske
 .\n\n\n[1] https://www.hammeluglerne.dk/pakkeliste\n
URL:https://www.hammeluglerne.dk/begivenhed/trop-rystesammentur-2025
DTSTART:20250926T173000Z
DTEND:20250928T134500Z
LOCATION:Hammeluglerne\, Møllevangen 4\, 8450 Hammel
END:VEVENT
BEGIN:VEVENT
UID:gruppeweb.dk:7506:event:1873
DTSTAMP:20260421T080520Z
LAST-MODIFIED:20251014T183437Z
SUMMARY:Trop - Intet møde pga. Efterårsferie
DESCRIPTION:\n
URL:https://www.hammeluglerne.dk/begivenhed/trop-intet-moede-pga-efteraarsf
 erie
DTSTART;VALUE=DATE:20251014
LOCATION:
END:VEVENT
BEGIN:VEVENT
UID:gruppeweb.dk:7506:event:1878
DTSTAMP:20260421T080520Z
LAST-MODIFIED:20260214T183552Z
SUMMARY:Flagermuslygteløbet 2025
DESCRIPTION:Tilmelding til Flagermuslygteløbet 2025.\n\nLæs mere om løbe
 t  \nher: https://grp7200.gruppeweb.dk/begivenhed/flagermuslygteloebet-aa
 rhus-stoerste-natloeb-2025? \n\n\n
URL:https://www.hammeluglerne.dk/begivenhed/flagermuslygteloebet-2025
DTSTART:20251101T170000Z
DTEND:20251102T043000Z
LOCATION:Hammeluglerne\, Møllevangen 4\, 8450 Hammel
END:VEVENT
BEGIN:VEVENT
UID:gruppeweb.dk:7506:event:1879
DTSTAMP:20260421T080520Z
LAST-MODIFIED:20260105T181629Z
SUMMARY:Trop - Aflyst pga. Troldefærd
DESCRIPTION:\n
URL:https://www.hammeluglerne.dk/begivenhed/trop-aflyst-pga-troldefaerd
DTSTART;VALUE=DATE:20260120
LOCATION:
END:VEVENT
BEGIN:VEVENT
UID:gruppeweb.dk:7506:event:1880
DTSTAMP:20260421T080520Z
LAST-MODIFIED:20251014T183430Z
SUMMARY:Trop - Planlægning af post til Gruppetur.
DESCRIPTION:\n
URL:https://www.hammeluglerne.dk/begivenhed/trop-planlaegning-af-post-til-g
 ruppetur-0
DTSTART;VALUE=DATE:20260127
LOCATION:
END:VEVENT
BEGIN:VEVENT
UID:gruppeweb.dk:7506:event:1881
DTSTAMP:20260421T080520Z
LAST-MODIFIED:20251014T183432Z
SUMMARY:Trop - Bålmøde og sanke i skoven.
DESCRIPTION:\n
URL:https://www.hammeluglerne.dk/begivenhed/trop-baalmoede-og-sanke-i-skove
 n
DTSTART;VALUE=DATE:20251209
LOCATION:
END:VEVENT
BEGIN:VEVENT
UID:gruppeweb.dk:7506:event:1882
DTSTAMP:20260421T080520Z
LAST-MODIFIED:20251014T183433Z
SUMMARY:Trop - Snak om Troldefærd og byg Bivuak.
DESCRIPTION:\n
URL:https://www.hammeluglerne.dk/begivenhed/trop-snak-om-troldefaerd-og-byg
 -bivuak
DTSTART;VALUE=DATE:20251202
LOCATION:
END:VEVENT
BEGIN:VEVENT
UID:gruppeweb.dk:7506:event:1883
DTSTAMP:20260421T080520Z
LAST-MODIFIED:20251014T183434Z
SUMMARY:Trop - Pakke til Flagermuslygteløbet + Kompas
DESCRIPTION:\n
URL:https://www.hammeluglerne.dk/begivenhed/trop-pakke-til-flagermuslygtelo
 ebet-kompas
DTSTART;VALUE=DATE:20251028
LOCATION:
END:VEVENT
BEGIN:VEVENT
UID:gruppeweb.dk:7506:event:1884
DTSTAMP:20260421T080520Z
LAST-MODIFIED:20251014T183434Z
SUMMARY:Trop - Kort og Kompas - Pejiling
DESCRIPTION:\n
URL:https://www.hammeluglerne.dk/begivenhed/trop-kort-og-kompas-pejiling
DTSTART;VALUE=DATE:20251021
LOCATION:
END:VEVENT
BEGIN:VEVENT
UID:gruppeweb.dk:7506:event:1885
DTSTAMP:20260421T080520Z
LAST-MODIFIED:20260105T181632Z
SUMMARY:Trop - Planlægning af post til Gruppetur.
DESCRIPTION:\n
URL:https://www.hammeluglerne.dk/begivenhed/trop-planlaegning-af-post-til-g
 ruppetur
DTSTART;VALUE=DATE:20260106
LOCATION:
END:VEVENT
BEGIN:VEVENT
UID:gruppeweb.dk:7506:event:1886
DTSTAMP:20260421T080520Z
LAST-MODIFIED:20251014T183436Z
SUMMARY:Trop - Evaluering af løbet. Hvilke skills mangler vi?
DESCRIPTION:\n
URL:https://www.hammeluglerne.dk/begivenhed/trop-evaluering-af-loebet-hvilk
 e-skills-mangler-vi
DTSTART;VALUE=DATE:20251111
LOCATION:
END:VEVENT
BEGIN:VEVENT
UID:gruppeweb.dk:7506:event:1887
DTSTAMP:20260421T080520Z
LAST-MODIFIED:20251014T183437Z
SUMMARY:Trop - Opsætning af juletræsplads
DESCRIPTION:\n
URL:https://www.hammeluglerne.dk/begivenhed/trop-opsaetning-af-juletraespla
 ds
DTSTART;VALUE=DATE:20251118
LOCATION:
END:VEVENT
BEGIN:VEVENT
UID:gruppeweb.dk:7506:event:1888
DTSTAMP:20260421T080520Z
LAST-MODIFIED:20260105T181631Z
SUMMARY:Trop - Pakke til Troldefærd
DESCRIPTION:\n
URL:https://www.hammeluglerne.dk/begivenhed/trop-pakke-til-troldefaerd-0
DTSTART;VALUE=DATE:20260113
LOCATION:
END:VEVENT
BEGIN:VEVENT
UID:gruppeweb.dk:7506:event:1889
DTSTAMP:20260421T080520Z
LAST-MODIFIED:20251014T183439Z
SUMMARY:Trop - Madmøde
DESCRIPTION:\n
URL:https://www.hammeluglerne.dk/begivenhed/trop-madmoede
DTSTART;VALUE=DATE:20251125
LOCATION:
END:VEVENT
BEGIN:VEVENT
UID:gruppeweb.dk:7506:event:1890
DTSTAMP:20260421T080520Z
LAST-MODIFIED:20251014T183440Z
SUMMARY:Trop - Juleafslutning
DESCRIPTION:\n
URL:https://www.hammeluglerne.dk/begivenhed/trop-juleafslutning-1
DTSTART;VALUE=DATE:20251216
LOCATION:
END:VEVENT
BEGIN:VEVENT
UID:gruppeweb.dk:7506:event:1918
DTSTAMP:20260421T080520Z
LAST-MODIFIED:20260214T183421Z
SUMMARY:Troldefærd 2026 – Hammel Trop
DESCRIPTION:\n
URL:https://www.hammeluglerne.dk/begivenhed/troldefaerd-2026-hammel-trop
DTSTART:20260117T170000Z
DTEND:20260118T090000Z
LOCATION:Hammeluglerne\, Møllevangen 4\, 8450 Hammel
END:VEVENT
BEGIN:VEVENT
UID:gruppeweb.dk:7506:event:1921
DTSTAMP:20260421T080520Z
LAST-MODIFIED:20260215T190904Z
SUMMARY:Spejdernes Lejr 2026 - trop/senior
DESCRIPTION:\n*Kære Trops- og seniorspejder hos Hammeluglerne*\n\n\n\nDu\n
 inviteres til at deltage på sommerlejr\, som i år er\n\n\n\n*Spejdernes 
 Lejr 2026*\n\n\n\nSpejdernes Lejr er Nordens største spejderlejr med\n40.
 000 danske og internationale spejdere og endnu flere gæster. Lejren\narra
 ngeres af de fem danske spejderkorps i foreningen Spejderne.\n\n\n\nSidste
 \nlejr var for fire år siden og igen bliver den holdt i naturskønne  \no
 mgivelser i\nHedeland Naturpark nær Roskilde.\n\n\n\n\n*Hvornår er det?
  *\n\n\n\nVi\nskal afsted fra Hammel *lørdag den 18. juli 2026*.\n\n\n\n
 Vi er\nhjemme igen *søndag den 26. juli 2026.**\n**\n*\n\n*Hvad skal du l
 ave på lejren? *\n\n\n\nDu\nskal være med til at bygge den bedste lejrpl
 ads\, hvor du skal bo sammen med\nresten af Hammeluglerne. Vi skal bo ved 
 siden af andre grupper fra Favrskov.  \nDu\nskal på fede og spændende ak
 tiviteter sammen med dine kammerater. Du vil  \nopleve\nsammenhold og fæl
 lesskab\, og du får masser af muligheder for nye venskaber\,  \nalt\nsamm
 en imens du udforsker den store lejr.\n\n\n\nDer\ner også to store lejrb
 ål med masser af underholdning og 40.000 deltagende\nspejdere. \n\n\n\n\
 n*Vi håber du vil med!**\n**\n**Spejderhilsner fra alle Spejderlederne i 
 Hammeluglerne**\n**\n*\n*Prisen for lejren er kr. 1250\, -*\n\n\n\n*Prisen
  inkluderer:*\n\n\n\n·       /9\nstorslåede dage med fuld forplejn
 ing og fede aktiviteter./\n\n\n\n·       /Fællestransport\ntil og 
 fra lejren./\n\n\n\n·       /Oplevelser\,\nder sætter spor for res
 ten af jeres spejderliv\, og røverhistorier til de  \nvarme\ntimer ved et
  lejrbål./\n\n\n\n·       /Et\ninternationalt spejdereventyr og ve
 nskaber på tværs af nationer./\n\n\n\n·       /Fascinationen\naf 
 at etablere en by på størrelse med Fredericia for en uge./\n\n\n\n·  
      /Fællesskabsfølelse\nmed 40.000 andre./\n\n\n\n·       /
 Underlejrtorv\nmed alt hvad hjertet begærer./\n\n\n\n·       /Lejr
 mærker./\n\n\n\n\n \n\n\nFor\nat kunne planlægge så stor en lejr skal 
 vi allerede nu have din tilmelding  \ntil\nlejren.\n\n\n*Tilmeldingen er b
 indende og foregår her på siden.*\n\n\n\n*Sidste frist for tilmelding sa
 mt\nbetaling er den 25. februar 2026.*\n\n\n\nPakkeliste\nfinder du her: h
 ttps://www.hammeluglerne.dk/pakkeliste\n\n\n\n*\n*\n\n
URL:https://www.hammeluglerne.dk/begivenhed/spejdernes-lejr-2026-tropsenior
DTSTART:20260717T220000Z
DTEND:20260726T140000Z
LOCATION:Hammeluglerne\, Møllevangen 4\, 8450 Hammel
END:VEVENT
BEGIN:VEVENT
UID:gruppeweb.dk:7506:event:2000
DTSTAMP:20260421T080520Z
LAST-MODIFIED:20260307T162008Z
SUMMARY:Trop -
DESCRIPTION:\n
URL:https://www.hammeluglerne.dk/begivenhed/trop-33
DTSTART:20260601T230000Z
DTEND:20260602T190000Z
LOCATION:Hammeluglerne\, Møllevangen 4\, 8450 Hammel
END:VEVENT
BEGIN:VEVENT
UID:gruppeweb.dk:7506:event:2011
DTSTAMP:20260421T080520Z
LAST-MODIFIED:20260307T162013Z
SUMMARY:Trop - Kodebanko
DESCRIPTION:Tag jeres sejeste festhat på!\n\n
URL:https://www.hammeluglerne.dk/begivenhed/trop-kodebanko
DTSTART:20260310T180000Z
DTEND:20260310T200000Z
LOCATION:Hammeluglerne\, Møllevangen 4\, 8450 Hammel
END:VEVENT
BEGIN:VEVENT
UID:gruppeweb.dk:7506:event:2012
DTSTAMP:20260421T080520Z
LAST-MODIFIED:20260316T191332Z
SUMMARY:Trop - Glamping - Opstart og Opsætning
DESCRIPTION:\n
URL:https://www.hammeluglerne.dk/begivenhed/trop-glamping-opstart-og-opsaet
 ning
DTSTART:20260317T180000Z
DTEND:20260317T200000Z
LOCATION:Hammeluglerne\, Møllevangen 4\, 8450 Hammel
END:VEVENT
BEGIN:VEVENT
UID:gruppeweb.dk:7506:event:2058
DTSTAMP:20260421T080520Z
LAST-MODIFIED:20260420T184208Z
SUMMARY:Trop - Batik
DESCRIPTION:\n
URL:https://www.hammeluglerne.dk/begivenhed/trop-batik-0
DTSTART:20260428T170000Z
DTEND:20260428T190000Z
LOCATION:Hammeluglerne\, Møllevangen 4\, 8450 Hammel
END:VEVENT
BEGIN:VEVENT
UID:gruppeweb.dk:7506:event:2059
DTSTAMP:20260421T080520Z
LAST-MODIFIED:20260321T083549Z
SUMMARY:Trop - Glamping 2
DESCRIPTION:\n
URL:https://www.hammeluglerne.dk/begivenhed/trop-glamping-2
DTSTART:20260324T000000Z
DTEND:20260324T200000Z
LOCATION:Hammeluglerne\, Møllevangen 4\, 8450 Hammel
END:VEVENT
BEGIN:VEVENT
UID:gruppeweb.dk:7506:event:2060
DTSTAMP:20260421T080520Z
LAST-MODIFIED:20260321T083551Z
SUMMARY:Trop - Fotoløb
DESCRIPTION:\n
URL:https://www.hammeluglerne.dk/begivenhed/trop-fotoloeb
DTSTART:20260407T170000Z
DTEND:20260407T190000Z
LOCATION:Hammeluglerne\, Møllevangen 4\, 8450 Hammel
END:VEVENT
BEGIN:VEVENT
UID:gruppeweb.dk:7506:event:2061
DTSTAMP:20260421T080520Z
LAST-MODIFIED:20260321T083553Z
SUMMARY:Trop - Aflyst grundet påske
DESCRIPTION:\n
URL:https://www.hammeluglerne.dk/begivenhed/trop-aflyst-grundet-paaske
DTSTART:20260331T170000Z
DTEND:20260331T190000Z
LOCATION:Hammeluglerne\, Møllevangen 4\, 8450 Hammel
END:VEVENT
BEGIN:VEVENT
UID:gruppeweb.dk:7506:event:2062
DTSTAMP:20260421T080520Z
LAST-MODIFIED:20260420T184209Z
SUMMARY:Trop - Bålmøde + SL
DESCRIPTION:\n
URL:https://www.hammeluglerne.dk/begivenhed/trop-baalmoede-sl
DTSTART:20260421T170000Z
DTEND:20260421T190000Z
LOCATION:Hammeluglerne\, Møllevangen 4\, 8450 Hammel
END:VEVENT
BEGIN:VEVENT
UID:gruppeweb.dk:7506:event:2063
DTSTAMP:20260421T080520Z
LAST-MODIFIED:20260321T083556Z
SUMMARY:Trop - Madmøde
DESCRIPTION:\n
URL:https://www.hammeluglerne.dk/begivenhed/trop-madmoede-0
DTSTART:20260414T170000Z
DTEND:20260414T190000Z
LOCATION:Hammeluglerne\, Møllevangen 4\, 8450 Hammel
END:VEVENT
BEGIN:VEVENT
UID:gruppeweb.dk:7506:event:2064
DTSTAMP:20260421T080520Z
LAST-MODIFIED:20260321T090131Z
SUMMARY:Trop - Sommerafslutning
DESCRIPTION:\n
URL:https://www.hammeluglerne.dk/begivenhed/trop-sommerafslutning-0
DTSTART:20260622T230000Z
DTEND:20260623T190000Z
LOCATION:Hammeluglerne\, Møllevangen 4\, 8450 Hammel
END:VEVENT
BEGIN:VEVENT
UID:gruppeweb.dk:7506:event:2065
DTSTAMP:20260421T080520Z
LAST-MODIFIED:20260321T090136Z
SUMMARY:Trop - Madmøde med Juniorne
DESCRIPTION:\n
URL:https://www.hammeluglerne.dk/begivenhed/trop-madmoede-med-juniorne
DTSTART:20260505T150000Z
DTEND:20260505T170000Z
LOCATION:Hammeluglerne\, Møllevangen 4\, 8450 Hammel
END:VEVENT
BEGIN:VEVENT
UID:gruppeweb.dk:7506:event:2066
DTSTAMP:20260421T080520Z
LAST-MODIFIED:20260321T090136Z
SUMMARY:Trop - Glamping 4
DESCRIPTION:\n
URL:https://www.hammeluglerne.dk/begivenhed/trop-glamping-4
DTSTART:20260512T170000Z
DTEND:20260512T190000Z
LOCATION:Hammeluglerne\, Møllevangen 4\, 8450 Hammel
END:VEVENT
BEGIN:VEVENT
UID:gruppeweb.dk:7506:event:2067
DTSTAMP:20260421T080520Z
LAST-MODIFIED:20260321T090140Z
SUMMARY:Trop - Pakke til SL
DESCRIPTION:\n
URL:https://www.hammeluglerne.dk/begivenhed/trop-pakke-til-sl
DTSTART:20260616T170000Z
DTEND:20260616T190000Z
LOCATION:Hammeluglerne\, Møllevangen 4\, 8450 Hammel
END:VEVENT
BEGIN:VEVENT
UID:gruppeweb.dk:7506:event:2068
DTSTAMP:20260421T080520Z
LAST-MODIFIED:20260321T090143Z
SUMMARY:Trop - Aflyst grundet Indaba
DESCRIPTION:\n
URL:https://www.hammeluglerne.dk/begivenhed/trop-aflyst-grundet-indaba
DTSTART:20260525T230000Z
DTEND:20260526T190000Z
LOCATION:Hammeluglerne\, Møllevangen 4\, 8450 Hammel
END:VEVENT
BEGIN:VEVENT
UID:gruppeweb.dk:7506:event:2069
DTSTAMP:20260421T080520Z
LAST-MODIFIED:20260321T090145Z
SUMMARY:Trop - Glamping 4
DESCRIPTION:\n
URL:https://www.hammeluglerne.dk/begivenhed/trop-glamping-4-0
DTSTART:20260519T170000Z
DTEND:20260519T190000Z
LOCATION:Hammeluglerne\, Møllevangen 4\, 8450 Hammel
END:VEVENT
BEGIN:VEVENT
UID:gruppeweb.dk:7506:event:2070
DTSTAMP:20260421T080520Z
LAST-MODIFIED:20260321T090150Z
SUMMARY:Trop - D&H
DESCRIPTION:\n
URL:https://www.hammeluglerne.dk/begivenhed/trop-dh-0
DTSTART:20260609T170000Z
DTEND:20260609T190000Z
LOCATION:Hammeluglerne\, Møllevangen 4\, 8450 Hammel
END:VEVENT
END:VCALENDAR
